BEGIN:VCALENDAR
VERSION:2.0
PRODID:-//risedrugfreemke.org//NONSGML kigkonsult.se iCalcreator 2.30.10//
CALSCALE:GREGORIAN
METHOD:PUBLISH
UID:4cdb47d5-135b-43de-a649-aa005e967540
X-WR-CALDESC:RISE Drug Free MKE welcomes you to Discovery World! Registrati
 on is required at the link below.
X-WR-RELCALID:fc0497a0a20ea1747e3b41ace18c7bb6
X-WR-TIMEZONE:America/Chicago
BEGIN:VTIMEZONE
TZID:America/Chicago
BEGIN:STANDARD
TZNAME:CST
DTSTART:20221106T020000
TZOFFSETFROM:-0500
TZOFFSETTO:-0600
RDATE:20231105T020000
END:STANDARD
BEGIN:DAYLIGHT
TZNAME:CDT
DTSTART:20230312T020000
TZOFFSETFROM:-0600
TZOFFSETTO:-0500
RDATE:20240310T020000
END:DAYLIGHT
END:VTIMEZONE
BEGIN:VEVENT
UID:de198aab-4db4-4f2a-8097-03da6b1a2549
DTSTAMP:20260422T051602Z
DESCRIPTION:RISE Drug Free MKE welcomes you to Discovery World! Registratio
 n is required at the link below.
DTSTART;TZID=America/Chicago:20230323T120000
DTEND;TZID=America/Chicago:20230323T160000
LOCATION:Discovery World\, 500 N Harbor Drive\, Milwaukee\, WI 53202 US
SUMMARY:Family Discovery Event | Light & Unite Red Week
END:VEVENT
END:VCALENDAR
