BEGIN:VCALENDAR
VERSION:2.0
PRODID:-//risedrugfreemke.org//NONSGML kigkonsult.se iCalcreator 2.30.10//
CALSCALE:GREGORIAN
METHOD:PUBLISH
UID:f5a16eac-0f3a-4ce1-a339-279c86f75759
X-WR-CALDESC:Friends\, family\, and survivors of overdose are invited to co
 nnect with community organizations\, memorialize their lost loved ones\, a
 nd get resources to prevent overdose at three locations in Milwaukee Count
 y. \n\n10 am-12 noon: Samad’s House\, 2875 N. 23rd St. \n1-3 pm: UMOS\, 27
 01 S. Chase Ave.\n4-8 pm: RISE Drug Free MKE & Team Havoc\, Mitchell Park 
 Pavilion\,  524 S. Layton Blvd. \n\nFree Narcan | Fentanyl Test Strips \nM
 emorial Tree | Grief Counselors  \nMemorial Lantern Release @ 7 pm at Mitc
 hell Park Pavilion\n\nR﻿SVP now!\n\nThis event is presented by RISE Drug F
 ree MKE with support from Milwaukee County Behavioral Health Services.\n\n
 Partners: City of Milwaukee Health Department | CleanSlate Medical Group |
  Community Advocates Public Policy Institute | Community Medical Services 
 | Medical College of Wisconsin | Milwaukee County Behavioral Health Servic
 es |Milwaukee Fire Department | Nar-Anon | Onepillkills | RISE Drug Free M
 KE | Samad’s House | Street Angels | Team HAVOC | UMOS Inc. | Vivent Healt
 h | Wauwatosa Health Department\n\n_______________________________________
 _____\n\nRISE Drug Free MKE presenta\n\nReuniendome contigo dónde estás\n
 \nDía Internacional de Concientización sobre la Sobredosis de Milwaukee\n
 \n31 de agosto de 2023\n\nSe invita a amigos\, familiares y sobrevivientes
  de sobredosis a conectarse con organizaciones comunitarias\, conmemorar a
  sus seres queridos perdidos y obtener recursos para prevenir la sobredosi
 s.\n\nNarcan Gratis | Tiras de prueba de fentanilo\nÁrbol conmemorativo | 
 Consejeros de duelo\nLanzamiento de la linterna conmemorativa a las 7 p. m
 . en el Mitchell Park Pavilion\nMarcha para terminar con la sobredosis en 
 Mitchell Park Pavillion\, 7:30 p.m.\n\n10 am-12 mediodía: Samad’s House\, 
 2875 N. 23rd St.\n1-3 pm: UMOS\, 2701 S. Chase Ave.\n4-8 pm: RISE Drug Fre
 e MKE & Team Havoc\, Mitchell Park Pavilion\, 524 S. Layton Blvd.\n\nConfi
 rmaciones de asistencia apreciadas pero no requeridas\nEste evento es pres
 entado por RISE Drug Free MKE con el apoyo de los Servicios de Salud Menta
 l del Condado de Milwaukee.\n\nLa fogonadura: City of Milwaukee Health Dep
 artment | CleanSlate Medical Group | Community Advocates Public Policy Ins
 titute | Community Medical Services | Medical College of Wisconsin | Milwa
 ukee County Behavioral Health Services |Milwaukee Fire Department | Nar-An
 on | Onepillkills | RISE Drug Free MKE | Samad’s House | Street Angels | T
 eam HAVOC | UMOS Inc. | Vivent Health | Wauwatosa Health Department
X-WR-RELCALID:ebdbbaebcf8041e1336c5b6f43039037
X-WR-TIMEZONE:America/Chicago
BEGIN:VTIMEZONE
TZID:America/Chicago
BEGIN:STANDARD
TZNAME:CST
DTSTART:20221106T020000
TZOFFSETFROM:-0500
TZOFFSETTO:-0600
RDATE:20231105T020000
RDATE:20241103T020000
END:STANDARD
BEGIN:DAYLIGHT
TZNAME:CDT
DTSTART:20230312T020000
TZOFFSETFROM:-0600
TZOFFSETTO:-0500
RDATE:20240310T020000
END:DAYLIGHT
END:VTIMEZONE
BEGIN:VEVENT
UID:aa450c35-a5f7-453a-ab50-bce0ebe64917
DTSTAMP:20260422T171806Z
DESCRIPTION:Friends\, family\, and survivors of overdose are invited to con
 nect with community organizations\, memorialize their lost loved ones\, an
 d get resources to prevent overdose at three locations in Milwaukee County
 . \n\n10 am-12 noon: Samad’s House\, 2875 N. 23rd St. \n1-3 pm: UMOS\, 270
 1 S. Chase Ave.\n4-8 pm: RISE Drug Free MKE & Team Havoc\, Mitchell Park P
 avilion\,  524 S. Layton Blvd. \n\nFree Narcan | Fentanyl Test Strips \nMe
 morial Tree | Grief Counselors  \nMemorial Lantern Release @ 7 pm at Mitch
 ell Park Pavilion\n\nR﻿SVP now!\n\nThis event is presented by RISE Drug Fr
 ee MKE with support from Milwaukee County Behavioral Health Services.\n\nP
 artners: City of Milwaukee Health Department | CleanSlate Medical Group | 
 Community Advocates Public Policy Institute | Community Medical Services |
  Medical College of Wisconsin | Milwaukee County Behavioral Health Service
 s |Milwaukee Fire Department | Nar-Anon | Onepillkills | RISE Drug Free MK
 E | Samad’s House | Street Angels | Team HAVOC | UMOS Inc. | Vivent Health
  | Wauwatosa Health Department\n\n________________________________________
 ____\n\nRISE Drug Free MKE presenta\n\nReuniendome contigo dónde estás\n\n
 Día Internacional de Concientización sobre la Sobredosis de Milwaukee\n\n3
 1 de agosto de 2023\n\nSe invita a amigos\, familiares y sobrevivientes de
  sobredosis a conectarse con organizaciones comunitarias\, conmemorar a su
 s seres queridos perdidos y obtener recursos para prevenir la sobredosis.
 \n\nNarcan Gratis | Tiras de prueba de fentanilo\nÁrbol conmemorativo | Co
 nsejeros de duelo\nLanzamiento de la linterna conmemorativa a las 7 p. m. 
 en el Mitchell Park Pavilion\nMarcha para terminar con la sobredosis en Mi
 tchell Park Pavillion\, 7:30 p.m.\n\n10 am-12 mediodía: Samad’s House\, 28
 75 N. 23rd St.\n1-3 pm: UMOS\, 2701 S. Chase Ave.\n4-8 pm: RISE Drug Free 
 MKE & Team Havoc\, Mitchell Park Pavilion\, 524 S. Layton Blvd.\n\nConfirm
 aciones de asistencia apreciadas pero no requeridas\nEste evento es presen
 tado por RISE Drug Free MKE con el apoyo de los Servicios de Salud Mental 
 del Condado de Milwaukee.\n\nLa fogonadura: City of Milwaukee Health Depar
 tment | CleanSlate Medical Group | Community Advocates Public Policy Insti
 tute | Community Medical Services | Medical College of Wisconsin | Milwauk
 ee County Behavioral Health Services |Milwaukee Fire Department | Nar-Anon
  | Onepillkills | RISE Drug Free MKE | Samad’s House | Street Angels | Tea
 m HAVOC | UMOS Inc. | Vivent Health | Wauwatosa Health Department
DTSTART;TZID=America/Chicago:20230831T160000
DTEND;TZID=America/Chicago:20230831T200000
LOCATION:Mitchell Park Pavilion\, 524 S. Layton Blvd.\, Milwaukee\, WI 5321
 5 US
SUMMARY:Overdose Awareness Day - RISE Drug Free MKE & Team Havoc
END:VEVENT
END:VCALENDAR
