BEGIN:VCALENDAR
VERSION:2.0
PRODID:-//risedrugfreemke.org//NONSGML kigkonsult.se iCalcreator 2.30.10//
CALSCALE:GREGORIAN
METHOD:PUBLISH
UID:00f20aa0-8425-4b21-b2e0-2972daf4dcd7
X-WR-CALDESC:Friends\, family\, and survivors of overdose are invited to co
 nnect with community organizations\, memorialize their lost loved ones\, a
 nd get resources to prevent overdose at three locations in Milwaukee Count
 y. \n\n10 am-12 noon: Samad’s House\, 2875 N. 23rd St. \n1-3 pm: UMOS\, 27
 01 S. Chase Ave.\n4-8 pm: RISE Drug Free MKE & Team Havoc\, Mitchell Park 
 Pavilion\,  524 S. Layton Blvd. \n\nFree Narcan | Fentanyl Test Strips \nM
 emorial Tree | Grief Counselors  \nMemorial Lantern Release @ 7 pm at Mitc
 hell Park Pavilion\n\nR﻿SVP now!\n\nThis event is presented by RISE Drug F
 ree MKE with support from Milwaukee County Behavioral Health Services.\n\n
 Partners: City of Milwaukee Health Department | CleanSlate Medical Group |
  Community Advocates Public Policy Institute | Community Medical Services 
 | Medical College of Wisconsin | Milwaukee County Behavioral Health Servic
 es |Milwaukee Fire Department | Nar-Anon | Onepillkills | RISE Drug Free M
 KE | Samad’s House | Street Angels | Team HAVOC | UMOS Inc. | Vivent Healt
 h | Wauwatosa Health Department\n\n___________________________________\n\n
 RISE Drug Free MKE presenta\n\nReuniendome contigo dónde estás\n\n\nDía In
 ternacional de Concientización sobre la Sobredosis de Milwaukee\n\n31 de a
 gosto de 2023\n\nSe invita a amigos\, familiares y sobrevivientes de sobre
 dosis a conectarse con organizaciones comunitarias\, conmemorar a sus sere
 s queridos perdidos y obtener recursos para prevenir la sobredosis.\n\nNar
 can Gratis | Tiras de prueba de fentanilo\nÁrbol conmemorativo | Consejero
 s de duelo\nLanzamiento de la linterna conmemorativa a las 7 p. m. en el M
 itchell Park Pavilion\nMarcha para terminar con la sobredosis en Mitchell 
 Park Pavillion\, 7:30 p.m.\n\n10 am-12 mediodía: Samad’s House\, 2875 N. 2
 3rd St.\n1-3 pm: UMOS\, 2701 S. Chase Ave.\n4-8 pm: RISE Drug Free MKE & T
 eam Havoc\, Mitchell Park Pavilion\, 524 S. Layton Blvd.\n\nConfirmaciones
  de asistencia apreciadas pero no requeridas\nEste evento es presentado po
 r RISE Drug Free MKE con el apoyo de los Servicios de Salud Mental del Con
 dado de Milwaukee.\n\nLa fogonadura: City of Milwaukee Health Department |
  CleanSlate Medical Group | Community Advocates Public Policy Institute | 
 Community Medical Services | Medical College of Wisconsin | Milwaukee Coun
 ty Behavioral Health Services |Milwaukee Fire Department | Nar-Anon | Onep
 illkills | RISE Drug Free MKE | Samad’s House | Street Angels | Team HAVOC
  | UMOS Inc. | Vivent Health | Wauwatosa Health Department\n
X-WR-RELCALID:92a026f1d16f8bb3e61792746214720b
X-WR-TIMEZONE:America/Chicago
BEGIN:VTIMEZONE
TZID:America/Chicago
BEGIN:STANDARD
TZNAME:CST
DTSTART:20221106T020000
TZOFFSETFROM:-0500
TZOFFSETTO:-0600
RDATE:20231105T020000
RDATE:20241103T020000
END:STANDARD
BEGIN:DAYLIGHT
TZNAME:CDT
DTSTART:20230312T020000
TZOFFSETFROM:-0600
TZOFFSETTO:-0500
RDATE:20240310T020000
END:DAYLIGHT
END:VTIMEZONE
BEGIN:VEVENT
UID:63c0140e-663f-458f-8b85-f04611a059b6
DTSTAMP:20260422T130219Z
DESCRIPTION:Friends\, family\, and survivors of overdose are invited to con
 nect with community organizations\, memorialize their lost loved ones\, an
 d get resources to prevent overdose at three locations in Milwaukee County
 . \n\n10 am-12 noon: Samad’s House\, 2875 N. 23rd St. \n1-3 pm: UMOS\, 270
 1 S. Chase Ave.\n4-8 pm: RISE Drug Free MKE & Team Havoc\, Mitchell Park P
 avilion\,  524 S. Layton Blvd. \n\nFree Narcan | Fentanyl Test Strips \nMe
 morial Tree | Grief Counselors  \nMemorial Lantern Release @ 7 pm at Mitch
 ell Park Pavilion\n\nR﻿SVP now!\n\nThis event is presented by RISE Drug Fr
 ee MKE with support from Milwaukee County Behavioral Health Services.\n\nP
 artners: City of Milwaukee Health Department | CleanSlate Medical Group | 
 Community Advocates Public Policy Institute | Community Medical Services |
  Medical College of Wisconsin | Milwaukee County Behavioral Health Service
 s |Milwaukee Fire Department | Nar-Anon | Onepillkills | RISE Drug Free MK
 E | Samad’s House | Street Angels | Team HAVOC | UMOS Inc. | Vivent Health
  | Wauwatosa Health Department\n\n___________________________________\n\nR
 ISE Drug Free MKE presenta\n\nReuniendome contigo dónde estás\n\n\nDía Int
 ernacional de Concientización sobre la Sobredosis de Milwaukee\n\n31 de ag
 osto de 2023\n\nSe invita a amigos\, familiares y sobrevivientes de sobred
 osis a conectarse con organizaciones comunitarias\, conmemorar a sus seres
  queridos perdidos y obtener recursos para prevenir la sobredosis.\n\nNarc
 an Gratis | Tiras de prueba de fentanilo\nÁrbol conmemorativo | Consejeros
  de duelo\nLanzamiento de la linterna conmemorativa a las 7 p. m. en el Mi
 tchell Park Pavilion\nMarcha para terminar con la sobredosis en Mitchell P
 ark Pavillion\, 7:30 p.m.\n\n10 am-12 mediodía: Samad’s House\, 2875 N. 23
 rd St.\n1-3 pm: UMOS\, 2701 S. Chase Ave.\n4-8 pm: RISE Drug Free MKE & Te
 am Havoc\, Mitchell Park Pavilion\, 524 S. Layton Blvd.\n\nConfirmaciones 
 de asistencia apreciadas pero no requeridas\nEste evento es presentado por
  RISE Drug Free MKE con el apoyo de los Servicios de Salud Mental del Cond
 ado de Milwaukee.\n\nLa fogonadura: City of Milwaukee Health Department | 
 CleanSlate Medical Group | Community Advocates Public Policy Institute | C
 ommunity Medical Services | Medical College of Wisconsin | Milwaukee Count
 y Behavioral Health Services |Milwaukee Fire Department | Nar-Anon | Onepi
 llkills | RISE Drug Free MKE | Samad’s House | Street Angels | Team HAVOC 
 | UMOS Inc. | Vivent Health | Wauwatosa Health Department\n
DTSTART;TZID=America/Chicago:20230831T100000
DTEND;TZID=America/Chicago:20230831T120000
LOCATION:Samad's House\, 2875 N. 23rd St.\, Milwaukee\, WI 53206 US
SUMMARY:Overdose Awareness Day - Samad's House
END:VEVENT
END:VCALENDAR
