BEGIN:VCALENDAR
VERSION:2.0
PRODID:-//risedrugfreemke.org//NONSGML kigkonsult.se iCalcreator 2.30.10//
CALSCALE:GREGORIAN
METHOD:PUBLISH
UID:4fae7c4c-326e-4a24-8e60-a9b5c541d1b9
X-WR-CALDESC:All RISE Drug Free MKE partners and interested community membe
 rs are invited to attend this full coalition meeting. Questions? Want to j
 oin the coalition? Contact Jenzy below.
X-WR-RELCALID:d01686c93eed27e45629e919411ce02c
X-WR-TIMEZONE:America/Chicago
BEGIN:VTIMEZONE
TZID:America/Chicago
BEGIN:STANDARD
TZNAME:CST
DTSTART:20221106T020000
TZOFFSETFROM:-0500
TZOFFSETTO:-0600
RDATE:20231105T020000
RDATE:20241103T020000
END:STANDARD
BEGIN:DAYLIGHT
TZNAME:CDT
DTSTART:20230312T020000
TZOFFSETFROM:-0600
TZOFFSETTO:-0500
RDATE:20240310T020000
RDATE:20250309T020000
END:DAYLIGHT
END:VTIMEZONE
BEGIN:VEVENT
UID:877e2010-a322-4d66-92dc-2eeebaa836a6
DTSTAMP:20260424T051356Z
DESCRIPTION:All RISE Drug Free MKE partners and interested community member
 s are invited to attend this full coalition meeting. Questions? Want to jo
 in the coalition? Contact Jenzy below.
DTSTART;TZID=America/Chicago:20231004T120000
DTEND;TZID=America/Chicago:20231004T133000
LOCATION:Contact Jenzy for details
SUMMARY:RISE Drug Free MKE Coalition Meeting
END:VEVENT
END:VCALENDAR
