BEGIN:VCALENDAR
VERSION:2.0
PRODID:-//risedrugfreemke.org//NONSGML kigkonsult.se iCalcreator 2.30.10//
CALSCALE:GREGORIAN
METHOD:PUBLISH
UID:ace62d06-ffcd-4879-8250-a2ad6069345a
X-WR-CALDESC:The RISE Drug Free MKE full coalition will meet to discuss pro
 jects and priorities. Interested in joining? Please contact RISE Drug Free
  MKE Coordinator Jenzy Walugembe.
X-WR-RELCALID:f501b1c4962ece7bbec926adaec05320
X-WR-TIMEZONE:America/Chicago
BEGIN:VTIMEZONE
TZID:America/Chicago
BEGIN:STANDARD
TZNAME:CST
DTSTART:20231105T020000
TZOFFSETFROM:-0500
TZOFFSETTO:-0600
RDATE:20241103T020000
RDATE:20251102T020000
END:STANDARD
BEGIN:DAYLIGHT
TZNAME:CDT
DTSTART:20240310T020000
TZOFFSETFROM:-0600
TZOFFSETTO:-0500
RDATE:20250309T020000
RDATE:20260308T020000
END:DAYLIGHT
END:VTIMEZONE
BEGIN:VEVENT
UID:a87ad890-c78e-4212-ba9b-b965a4b09d69
DTSTAMP:20260421T123106Z
DESCRIPTION:The RISE Drug Free MKE full coalition will meet to discuss proj
 ects and priorities. Interested in joining? Please contact RISE Drug Free 
 MKE Coordinator Jenzy Walugembe.
DTSTART;TZID=America/Chicago:20241002T120000
DTEND;TZID=America/Chicago:20241002T133000
LOCATION:Location TBD
SUMMARY:RISE Drug Free MKE Coalition Meeting
END:VEVENT
END:VCALENDAR
