BEGIN:VCALENDAR
VERSION:2.0
PRODID:-//risedrugfreemke.org//NONSGML kigkonsult.se iCalcreator 2.30.10//
CALSCALE:GREGORIAN
METHOD:PUBLISH
UID:b7b1129f-a891-4f6b-a78b-3986084049a0
X-WR-CALDESC:The RISE Drug Free MKE full coalition will meet to discuss pro
 jects and priorities. Interested in joining? Please contact De'Shawn Ewing
 .
X-WR-RELCALID:ab92f580a32a0f37180466bedef7d397
X-WR-TIMEZONE:America/Chicago
BEGIN:VTIMEZONE
TZID:America/Chicago
BEGIN:STANDARD
TZNAME:CST
DTSTART:20241103T020000
TZOFFSETFROM:-0500
TZOFFSETTO:-0600
RDATE:20251102T020000
RDATE:20261101T020000
END:STANDARD
BEGIN:DAYLIGHT
TZNAME:CDT
DTSTART:20250309T020000
TZOFFSETFROM:-0600
TZOFFSETTO:-0500
RDATE:20260308T020000
END:DAYLIGHT
END:VTIMEZONE
BEGIN:VEVENT
UID:428fd19a-7c2b-4973-9740-a17d87cbbe1c
DTSTAMP:20260422T092925Z
DESCRIPTION:The RISE Drug Free MKE full coalition will meet to discuss proj
 ects and priorities. Interested in joining? Please contact De'Shawn Ewing.
DTSTART;TZID=America/Chicago:20250604T100000
DTEND;TZID=America/Chicago:20250604T113000
LOCATION:Location TBD
SUMMARY:RISE Drug Free MKE Coalition Meeting
END:VEVENT
END:VCALENDAR
