BEGIN:VCALENDAR
VERSION:2.0
PRODID:-//risedrugfreemke.org//NONSGML kigkonsult.se iCalcreator 2.30.10//
CALSCALE:GREGORIAN
METHOD:PUBLISH
UID:a732ee43-6894-47be-b3fa-a8b96b5451a1
X-WR-CALDESC:¡CAMBIO DE LOCACION!\nUrban Ecology Center\, Menomonee Valley 
 Branch\n3700 W Pierce St Milwaukee\, WI (En la Pierce y la 37)\n\nCon much
 o cariño Escucha tus Emociones les invita al siguiente Círculo de Sanación
 :\n\nLa Danza Sana: La Medicina de la Cultura y el Movimiento Ancestral pa
 ra Alimentar al Cuerpo Humano\ncon Alejandra Jiménez\nSábado\, 21 de Junio
 \, 3:00-5:00pm\n\n¡CAMBIO DE LOCACION!\nUrban Ecology Center\, Menomonee V
 alley Branch\n3700 W Pierce St Milwaukee\, WI (En la Pierce y la 37)\n\n¡E
 vento gratuito!\nEvento realizado en español\n\nEscucha tus Emociones les 
 invita a este evento de sanación con Alejandra Jiménez\, directora del gru
 po Ometochtli Mexican Folk Dance en Milwaukee. Ale baila desde que era niñ
 a y ha pertenecido a grupos representativos de Morelos desde que tenía 12 
 años. En su trayecto de vida se ha dado cuenta que la cultura y el movimie
 nto\, como arte\, cura. Nos guiará a reconectar con nuestra cultura ancest
 ral y la madre tierra a través de reflexiones\, actividades y movimiento.
 \n\nSe servirán refrigerios saludables.\n\n¿Qué debo traer?\n- Ropa y zapa
 tos cómodos\n- Una botella de agua\n- Una voluntad de explorar sus emocion
 es auténticas y conectarse con su misme y otras personas\n\nEscucha tus Em
 ociones es una iniciativa comunitaria de salud mental que enfatiza la impo
 rtancia de desestigmatizar las conversaciones y proporcionar conocimiento\
 , recursos comunitarios y herramientas prácticas para apoyar la salud ment
 al y el bienestar.\n\nEste Círculo de Sanación es gratuito para la comunid
 ad gracias al apoyo y financiación de Community Advocates y Better Ways to
  Cope.\n\nInscríbase en el enlace para garantizar su espacio para este cír
 culo. Para una experiencia completa\, favor de llegar a tiempo y quedarse 
 hasta el final.\n\n¿Preguntas? --> escuchatusemocionesinfo@gmail.com
X-WR-RELCALID:da7008e45e541df42b7991e8e5fb0114
X-WR-TIMEZONE:America/Chicago
BEGIN:VTIMEZONE
TZID:America/Chicago
BEGIN:STANDARD
TZNAME:CST
DTSTART:20241103T020000
TZOFFSETFROM:-0500
TZOFFSETTO:-0600
RDATE:20251102T020000
RDATE:20261101T020000
END:STANDARD
BEGIN:DAYLIGHT
TZNAME:CDT
DTSTART:20250309T020000
TZOFFSETFROM:-0600
TZOFFSETTO:-0500
RDATE:20260308T020000
END:DAYLIGHT
END:VTIMEZONE
BEGIN:VEVENT
UID:83b17c7e-46e3-4555-a5e3-46c50642e5cd
DTSTAMP:20260422T091955Z
DESCRIPTION:¡CAMBIO DE LOCACION!\nUrban Ecology Center\, Menomonee Valley B
 ranch\n3700 W Pierce St Milwaukee\, WI (En la Pierce y la 37)\n\nCon mucho
  cariño Escucha tus Emociones les invita al siguiente Círculo de Sanación:
 \n\nLa Danza Sana: La Medicina de la Cultura y el Movimiento Ancestral par
 a Alimentar al Cuerpo Humano\ncon Alejandra Jiménez\nSábado\, 21 de Junio\
 , 3:00-5:00pm\n\n¡CAMBIO DE LOCACION!\nUrban Ecology Center\, Menomonee Va
 lley Branch\n3700 W Pierce St Milwaukee\, WI (En la Pierce y la 37)\n\n¡Ev
 ento gratuito!\nEvento realizado en español\n\nEscucha tus Emociones les i
 nvita a este evento de sanación con Alejandra Jiménez\, directora del grup
 o Ometochtli Mexican Folk Dance en Milwaukee. Ale baila desde que era niña
  y ha pertenecido a grupos representativos de Morelos desde que tenía 12 a
 ños. En su trayecto de vida se ha dado cuenta que la cultura y el movimien
 to\, como arte\, cura. Nos guiará a reconectar con nuestra cultura ancestr
 al y la madre tierra a través de reflexiones\, actividades y movimiento.\n
 \nSe servirán refrigerios saludables.\n\n¿Qué debo traer?\n- Ropa y zapato
 s cómodos\n- Una botella de agua\n- Una voluntad de explorar sus emociones
  auténticas y conectarse con su misme y otras personas\n\nEscucha tus Emoc
 iones es una iniciativa comunitaria de salud mental que enfatiza la import
 ancia de desestigmatizar las conversaciones y proporcionar conocimiento\, 
 recursos comunitarios y herramientas prácticas para apoyar la salud mental
  y el bienestar.\n\nEste Círculo de Sanación es gratuito para la comunidad
  gracias al apoyo y financiación de Community Advocates y Better Ways to C
 ope.\n\nInscríbase en el enlace para garantizar su espacio para este círcu
 lo. Para una experiencia completa\, favor de llegar a tiempo y quedarse ha
 sta el final.\n\n¿Preguntas? --> escuchatusemocionesinfo@gmail.com
DTSTART;TZID=America/Chicago:20250621T150000
DTEND;TZID=America/Chicago:20250621T170000
LOCATION:Urban Ecology Center\, Menomonee Valley Branch\, 3700 W Pierce St 
 (En la Pierce y la 37)\, Milwaukee\, WI 53215 US
SUMMARY:La Danza Sana: La Medicina de la Cultura y el Movimiento Ancestral 
 para Alimentar al Cuerpo Humano
END:VEVENT
END:VCALENDAR
