BEGIN:VCALENDAR
VERSION:2.0
PRODID:-//risedrugfreemke.org//NONSGML kigkonsult.se iCalcreator 2.30.10//
CALSCALE:GREGORIAN
METHOD:PUBLISH
UID:5cccb6f5-8b35-4f47-a536-aa7aab7cf8ba
X-WR-CALDESC:Please Note: The Adult Mental Health First Aid course consists
  of two hours of self-paced content followed by six hours of instructor-le
 d training. The self-paced computer training must be completed at least th
 ree days prior to the beginning of the course and the one-hour self-paced 
 post session computer training must be completed as well in order for atte
 ndees to obtain certification. Registration ends Friday\, June 13 at 12 no
 on.\n\nMental Health First Aid teaches you how to identify\, understand an
 d respond to signs of mental illness and substance use disorders. This tra
 ining gives you the skills you need to reach out and provide initial suppo
 rt to someone who may be developing a mental health or substance use probl
 em and help connect them to the appropriate care.\n\nWhat the Mental Healt
 h First Aid Course offers:\nâ€˘ Common signs and symptoms of mental illness
 \nânâ Common signs and symptoms of substance use\nâ€˘ How to interact with a p
 erson in crisis\nâ€˘ How to connect the person with help\nâ€˘ Content on traum
 a\, addiction\, and self-care\n\nThe course will teach you how to apply th
 e ALGEE action plan:\nâ€˘ Assess for risk of suicide or harm.\nâ€˘ Listen nonj
 udgmentally.\nâ€˘ Give reassurance and information.\nâ€˘ Encourage appropriate
  professional help.\nâ€˘ Encourage self-help and other support strategies.\n
 \nThis session is free and open to everyone. We appreciate your interest i
 n learning more about mental health and wellness.
X-WR-RELCALID:4b2470c6be1182d5741a71cbe84abef5
X-WR-TIMEZONE:America/Chicago
BEGIN:VTIMEZONE
TZID:America/Chicago
BEGIN:STANDARD
TZNAME:CST
DTSTART:20241103T020000
TZOFFSETFROM:-0500
TZOFFSETTO:-0600
RDATE:20251102T020000
RDATE:20261101T020000
END:STANDARD
BEGIN:DAYLIGHT
TZNAME:CDT
DTSTART:20250309T020000
TZOFFSETFROM:-0600
TZOFFSETTO:-0500
RDATE:20260308T020000
END:DAYLIGHT
END:VTIMEZONE
BEGIN:VEVENT
UID:e605cc2c-83f3-4893-bd0a-a77f82de8cca
DTSTAMP:20260420T093731Z
DESCRIPTION:Please Note: The Adult Mental Health First Aid course consists 
 of two hours of self-paced content followed by six hours of instructor-led
  training. The self-paced computer training must be completed at least thr
 ee days prior to the beginning of the course and the one-hour self-paced p
 ost session computer training must be completed as well in order for atten
 dees to obtain certification. Registration ends Friday\, June 13 at 12 noo
 n.\n\nMental Health First Aid teaches you how to identify\, understand and
  respond to signs of mental illness and substance use disorders. This trai
 ning gives you the skills you need to reach out and provide initial suppor
 t to someone who may be developing a mental health or substance use proble
 m and help connect them to the appropriate care.\n\nWhat the Mental Health
  First Aid Course offers:\nâ€˘ Common signs and symptoms of mental illness\n
 â€˘ Common signs and symptoms of substance use\nâ€˘ How to interact with a per
 son in crisis\nâ€˘ How to connect the person with help\nâ€˘ Content on trauma\
 , addiction\, and self-care\n\nThe course will teach you how to apply the 
 ALGEE action plan:\nâ€˘ Assess for risk of suicide or harm.\nâ€˘ Listen nonjud
 gmentally.\nâ€˘ Give reassurance and information.\nâ€˘ Encourage appropriate p
 rofessional help.\nâ€˘ Encourage self-help and other support strategies.\n\n
 This session is free and open to everyone. We appreciate your interest in 
 learning more about mental health and wellness.
DTSTART;TZID=America/Chicago:20250624T090000
DTEND;TZID=America/Chicago:20250624T151500
LOCATION:Via Zoom
SUMMARY:Adult Mental Health First Aid | June 24\, 2025
END:VEVENT
END:VCALENDAR
