BEGIN:VCALENDAR
VERSION:2.0
PRODID:-//risedrugfreemke.org//NONSGML kigkonsult.se iCalcreator 2.30.10//
CALSCALE:GREGORIAN
METHOD:PUBLISH
UID:c707413f-9b3e-45fc-b92a-1348f8e9cb0e
X-WR-CALDESC:Please Note: The Adult Mental Health First Aid course consists
  of two hours of self-paced content followed by six hours of instructor-le
 d training. The self-paced computer training must be completed at least th
 ree days prior to the beginning of the course and the one-hour self-paced 
 post session computer training must be completed as well in order for atte
 ndees to obtain certification. Registration ends Monday\, July 21 at 5 p.m
 .\n\nMental Health First Aid teaches you how to identify\, understand and 
 respond to signs of mental illness and substance use disorders. This train
 ing gives you the skills you need to reach out and provide initial support
  to someone who may be developing a mental health or substance use problem
  and help connect them to the appropriate care.\n\nWhat the Mental Health 
 First Aid Course offers:\n• Common signs and symptoms of mental illness\n•
  Common signs and symptoms of substance use\n• How to interact with a pers
 on in crisis\n• How to connect the person with help\n• Content on trauma\,
  addiction\, and self-care\n\nThe course will teach you how to apply the A
 LGEE action plan:\n• Assess for risk of suicide or harm.\n• Listen nonjudg
 mentally.\n• Give reassurance and information.\n• Encourage appropriate pr
 ofessional help.\n• Encourage self-help and other support strategies.\n\nT
 his session is free and open to everyone. We appreciate your interest in l
 earning more about mental health and wellness.
X-WR-RELCALID:9afaf2a05fa319d3a9f31a80e82ce4de
X-WR-TIMEZONE:America/Chicago
BEGIN:VTIMEZONE
TZID:America/Chicago
BEGIN:STANDARD
TZNAME:CST
DTSTART:20241103T020000
TZOFFSETFROM:-0500
TZOFFSETTO:-0600
RDATE:20251102T020000
RDATE:20261101T020000
END:STANDARD
BEGIN:DAYLIGHT
TZNAME:CDT
DTSTART:20250309T020000
TZOFFSETFROM:-0600
TZOFFSETTO:-0500
RDATE:20260308T020000
END:DAYLIGHT
END:VTIMEZONE
BEGIN:VEVENT
UID:6bb192e1-8056-44ff-ab00-5cee07438826
DTSTAMP:20260420T075620Z
DESCRIPTION:Please Note: The Adult Mental Health First Aid course consists 
 of two hours of self-paced content followed by six hours of instructor-led
  training. The self-paced computer training must be completed at least thr
 ee days prior to the beginning of the course and the one-hour self-paced p
 ost session computer training must be completed as well in order for atten
 dees to obtain certification. Registration ends Monday\, July 21 at 5 p.m.
 \n\nMental Health First Aid teaches you how to identify\, understand and r
 espond to signs of mental illness and substance use disorders. This traini
 ng gives you the skills you need to reach out and provide initial support 
 to someone who may be developing a mental health or substance use problem 
 and help connect them to the appropriate care.\n\nWhat the Mental Health F
 irst Aid Course offers:\n• Common signs and symptoms of mental illness\n• 
 Common signs and symptoms of substance use\n• How to interact with a perso
 n in crisis\n• How to connect the person with help\n• Content on trauma\, 
 addiction\, and self-care\n\nThe course will teach you how to apply the AL
 GEE action plan:\n• Assess for risk of suicide or harm.\n• Listen nonjudgm
 entally.\n• Give reassurance and information.\n• Encourage appropriate pro
 fessional help.\n• Encourage self-help and other support strategies.\n\nTh
 is session is free and open to everyone. We appreciate your interest in le
 arning more about mental health and wellness.
DTSTART;TZID=America/Chicago:20250729T090000
DTEND;TZID=America/Chicago:20250729T151500
LOCATION:Via Zoom
SUMMARY:Adult Mental Health First Aid | July 29
END:VEVENT
END:VCALENDAR
