BEGIN:VCALENDAR
VERSION:2.0
PRODID:-//risedrugfreemke.org//NONSGML kigkonsult.se iCalcreator 2.30.10//
CALSCALE:GREGORIAN
METHOD:PUBLISH
UID:b00d3789-70e8-47f9-a1ea-dfc839a71efa
X-WR-CALDESC:The RISE Drug Free MKE full coalition will meet to discuss pro
 jects and priorities. Interested in joining? Please contact De'Shawn Ewing
 .
X-WR-RELCALID:7e17c47c19afa763abf29b637420176c
X-WR-TIMEZONE:America/Chicago
BEGIN:VTIMEZONE
TZID:America/Chicago
BEGIN:STANDARD
TZNAME:CST
DTSTART:20241103T020000
TZOFFSETFROM:-0500
TZOFFSETTO:-0600
RDATE:20251102T020000
RDATE:20261101T020000
END:STANDARD
BEGIN:DAYLIGHT
TZNAME:CDT
DTSTART:20250309T020000
TZOFFSETFROM:-0600
TZOFFSETTO:-0500
RDATE:20260308T020000
END:DAYLIGHT
END:VTIMEZONE
BEGIN:VEVENT
UID:e62ec017-d1e8-4108-8572-5c74b88afbbe
DTSTAMP:20260420T062030Z
DESCRIPTION:The RISE Drug Free MKE full coalition will meet to discuss proj
 ects and priorities. Interested in joining? Please contact De'Shawn Ewing.
DTSTART;TZID=America/Chicago:20250806T100000
DTEND;TZID=America/Chicago:20250806T113000
LOCATION:Location TBD
SUMMARY:RISE Drug Free MKE Coalition Meeting
END:VEVENT
END:VCALENDAR
