BEGIN:VCALENDAR
VERSION:2.0
PRODID:-//risedrugfreemke.org//NONSGML kigkonsult.se iCalcreator 2.30.10//
CALSCALE:GREGORIAN
METHOD:PUBLISH
UID:54ab31f0-e1ef-41c7-b5d6-c520e4fbbc92
X-WR-CALDESC:Join Recoveree Diaries for their 3rd Annual Overdose Awareness
  Picnic. \n\nEvery life matters. Every loss counts. \n\nWhat to expect:\n-
 Guest speakers from all over.\n-Now accepting monetary donations.\n-Suppor
 t school supplies for underprivileged kids.\n-Help kids in need with schoo
 l supplies.\n-Help the homeless with essentials.\n-Free food for everyone.
 \n-Merch for sale: t-shirts and tumblers.\n-Free haircuts for kids.
X-WR-RELCALID:0a53a260de49af9ed8a060a8888ebb64
X-WR-TIMEZONE:America/Chicago
BEGIN:VTIMEZONE
TZID:America/Chicago
BEGIN:STANDARD
TZNAME:CST
DTSTART:20241103T020000
TZOFFSETFROM:-0500
TZOFFSETTO:-0600
RDATE:20251102T020000
RDATE:20261101T020000
END:STANDARD
BEGIN:DAYLIGHT
TZNAME:CDT
DTSTART:20250309T020000
TZOFFSETFROM:-0600
TZOFFSETTO:-0500
RDATE:20260308T020000
END:DAYLIGHT
END:VTIMEZONE
BEGIN:VEVENT
UID:bb3b2475-6dd8-46b0-ab37-673fa007affd
DTSTAMP:20260420T062031Z
DESCRIPTION:Join Recoveree Diaries for their 3rd Annual Overdose Awareness 
 Picnic. \n\nEvery life matters. Every loss counts. \n\nWhat to expect:\n-G
 uest speakers from all over.\n-Now accepting monetary donations.\n-Support
  school supplies for underprivileged kids.\n-Help kids in need with school
  supplies.\n-Help the homeless with essentials.\n-Free food for everyone.
 \n-Merch for sale: t-shirts and tumblers.\n-Free haircuts for kids.
DTSTART;TZID=America/Chicago:20250809T120000
DTEND;TZID=America/Chicago:20250809T140000
LOCATION:Humboldt Park\, 3000 S. Howell Avenue\, Milwaukee\, WI 53207 US
SUMMARY:Recoveree Diaries Overdose Awareness Picnic
END:VEVENT
END:VCALENDAR
