BEGIN:VCALENDAR
VERSION:2.0
PRODID:-//risedrugfreemke.org//NONSGML kigkonsult.se iCalcreator 2.30.10//
CALSCALE:GREGORIAN
METHOD:PUBLISH
UID:12c20f14-12ef-4668-8fc0-e48995143cb3
X-WR-CALDESC:Join the Wauwatosa Health Department to raise awareness\, redu
 ce stigma\, and remember lives lost to overdose. \n\nWhether you have been
  personally affected by overdose or simply want to support your community\
 , your presence promotes healing and hope.\n\nThe event will include free 
 t-shirts\, ice cream\, speakers\, and a short remembrance walk.
X-WR-RELCALID:a19116fb5a8d8edb5fcedd7f464c694c
X-WR-TIMEZONE:America/Chicago
BEGIN:VTIMEZONE
TZID:America/Chicago
BEGIN:STANDARD
TZNAME:CST
DTSTART:20241103T020000
TZOFFSETFROM:-0500
TZOFFSETTO:-0600
RDATE:20251102T020000
RDATE:20261101T020000
END:STANDARD
BEGIN:DAYLIGHT
TZNAME:CDT
DTSTART:20250309T020000
TZOFFSETFROM:-0600
TZOFFSETTO:-0500
RDATE:20260308T020000
END:DAYLIGHT
END:VTIMEZONE
BEGIN:VEVENT
UID:ecfca44e-6dda-477f-9ada-a18432ffeeb4
DTSTAMP:20260420T061720Z
DESCRIPTION:Join the Wauwatosa Health Department to raise awareness\, reduc
 e stigma\, and remember lives lost to overdose. \n\nWhether you have been 
 personally affected by overdose or simply want to support your community\,
  your presence promotes healing and hope.\n\nThe event will include free t
 -shirts\, ice cream\, speakers\, and a short remembrance walk.
DTSTART;TZID=America/Chicago:20250823T120000
DTEND;TZID=America/Chicago:20250823T140000
LOCATION:Root Common Park\, Wauwatosa\, WI 53213 US
SUMMARY:Wauwatosa Overdose Awareness Event
END:VEVENT
END:VCALENDAR
