BEGIN:VCALENDAR
VERSION:2.0
PRODID:-//risedrugfreemke.org//NONSGML kigkonsult.se iCalcreator 2.30.10//
CALSCALE:GREGORIAN
METHOD:PUBLISH
UID:5b841ceb-aaa3-4ddc-9235-8eb37eb10838
X-WR-CALDESC:Responding to Addiction was developed by the Addiction Policy 
 Forum to increase knowledge about addiction\, improve helping behaviors to
 ward individuals with substance use disorders (SUD)\, correct misconceptio
 ns about addiction\, and reduce stigma in communities. The program is a mu
 lti-disciplinary training that teaches participants about the science of a
 ddiction and equips them with the knowledge and tools to understand and ad
 dress substance use disorders.\n\nKat Becker\, Community Advocates Public 
 Policy Institute's Alliance for Wisconsin Youth Coordinator\, will host th
 is training on Wednesday\, August 27 from 10 a.m. to 12:30 p.m. at Communi
 ty Adovcates\, 2nd Floor Conference Room\, 728 N. James Lovell\, St. Milwa
 ukee.\n\nWhat will you learn?\n- Signs and Symptoms of Addiction\n- Eviden
 ce-Based Treatment Options\n- Medications Available to Treat Addiction\n- 
 Recovery Support and Relapse Prevention\n- How to Start the Conversation w
 ith Someone in Need of Support\n- Engagement Strategies\n\nThis workshop i
 s held in conjunction with RISE Drug Free MKE's International Overdose Awa
 reness Day activities.
X-WR-RELCALID:64b8a19aecf61f350aa79d321c15ffbc
X-WR-TIMEZONE:America/Chicago
BEGIN:VTIMEZONE
TZID:America/Chicago
BEGIN:STANDARD
TZNAME:CST
DTSTART:20241103T020000
TZOFFSETFROM:-0500
TZOFFSETTO:-0600
RDATE:20251102T020000
RDATE:20261101T020000
END:STANDARD
BEGIN:DAYLIGHT
TZNAME:CDT
DTSTART:20250309T020000
TZOFFSETFROM:-0600
TZOFFSETTO:-0500
RDATE:20260308T020000
END:DAYLIGHT
END:VTIMEZONE
BEGIN:VEVENT
UID:a6fa5a46-54a8-47a6-8cce-a3153daef770
DTSTAMP:20260420T062031Z
DESCRIPTION:Responding to Addiction was developed by the Addiction Policy F
 orum to increase knowledge about addiction\, improve helping behaviors tow
 ard individuals with substance use disorders (SUD)\, correct misconception
 s about addiction\, and reduce stigma in communities. The program is a mul
 ti-disciplinary training that teaches participants about the science of ad
 diction and equips them with the knowledge and tools to understand and add
 ress substance use disorders.\n\nKat Becker\, Community Advocates Public P
 olicy Institute's Alliance for Wisconsin Youth Coordinator\, will host thi
 s training on Wednesday\, August 27 from 10 a.m. to 12:30 p.m. at Communit
 y Adovcates\, 2nd Floor Conference Room\, 728 N. James Lovell\, St. Milwau
 kee.\n\nWhat will you learn?\n- Signs and Symptoms of Addiction\n- Evidenc
 e-Based Treatment Options\n- Medications Available to Treat Addiction\n- R
 ecovery Support and Relapse Prevention\n- How to Start the Conversation wi
 th Someone in Need of Support\n- Engagement Strategies\n\nThis workshop is
  held in conjunction with RISE Drug Free MKE's International Overdose Awar
 eness Day activities.
DTSTART;TZID=America/Chicago:20250827T100000
DTEND;TZID=America/Chicago:20250827T123000
LOCATION:Community Advocates\, 2nd Floor Conference Room\, 728 N. James Lov
 ell Street\, Milwaukee\, WI 53233 US
SUMMARY:Responding to Addiction
END:VEVENT
END:VCALENDAR
