BEGIN:VCALENDAR
VERSION:2.0
PRODID:-//risedrugfreemke.org//NONSGML kigkonsult.se iCalcreator 2.30.10//
CALSCALE:GREGORIAN
METHOD:PUBLISH
UID:24d64b9c-2fd6-45f3-aa65-04ae76a43c51
X-WR-CALDESC:In honor of International Overdose Awareness Day\, we are exci
 ted to host 'Healing Together\, Driven by Hope' - a community-focused even
 t dedicated to promoting healing and supporting those who are grieving. Th
 is gathering aims to create a safe and nurturing space for individuals and
  families affected by overdose\, as well as those seeking to understand an
 d cope with their grief. The event will feature a variety of stations\, ea
 ch providing unique activities designed to foster healing and reflection. 
 Attendees will have the opportunity to engage in:\n\nPoetry Station: A spa
 ce for expressing emotions through writing and reading heartfelt poetry. 
 \n\nTypewriting Station: Participants can share their thoughts and feeling
 s in a nostalgic way\, using vintage typewriters.\n\nYoga: Gentle yoga ses
 sions focusing on mindfulness and relaxation\, helping participants reconn
 ect with their bodies and breath. \n\nPicture Printing Station: A creative
  area where attendees can capture and print memories of loved ones\, encou
 raging reflection and remembrance. \n\nLibrary Pop-Up: A selection of book
 s dedicated to grief support and coping strategies\, offering valuable res
 ources for those in need. \n\nAffirmation Memorial Rock Station: Participa
 nts can paint rocks with affirmations and messages of hope\, leaving a las
 ting tribute to honor those we've lost. \n\nResource and Support Tabling: 
 A variety of community partners from around Milwaukee County will provide 
 information and education on prevention and harm reduction for friends and
  family in attendance. \n\nWe invite our community partners to join us in 
 this meaningful event! Together\, we can create an environment of understa
 nding\, kindness\, and hope in remembrance of those we have lost. We hope 
 to see you there!
X-WR-RELCALID:7f59f967836c49762c9ab198791eb66d
X-WR-TIMEZONE:America/Chicago
BEGIN:VTIMEZONE
TZID:America/Chicago
BEGIN:STANDARD
TZNAME:CST
DTSTART:20241103T020000
TZOFFSETFROM:-0500
TZOFFSETTO:-0600
RDATE:20251102T020000
RDATE:20261101T020000
END:STANDARD
BEGIN:DAYLIGHT
TZNAME:CDT
DTSTART:20250309T020000
TZOFFSETFROM:-0600
TZOFFSETTO:-0500
RDATE:20260308T020000
END:DAYLIGHT
END:VTIMEZONE
BEGIN:VEVENT
UID:dfee4e18-58ce-416f-9579-be132efe863a
DTSTAMP:20260420T062337Z
DESCRIPTION:In honor of International Overdose Awareness Day\, we are excit
 ed to host 'Healing Together\, Driven by Hope' - a community-focused event
  dedicated to promoting healing and supporting those who are grieving. Thi
 s gathering aims to create a safe and nurturing space for individuals and 
 families affected by overdose\, as well as those seeking to understand and
  cope with their grief. The event will feature a variety of stations\, eac
 h providing unique activities designed to foster healing and reflection. A
 ttendees will have the opportunity to engage in:\n\nPoetry Station: A spac
 e for expressing emotions through writing and reading heartfelt poetry. \n
 \nTypewriting Station: Participants can share their thoughts and feelings 
 in a nostalgic way\, using vintage typewriters.\n\nYoga: Gentle yoga sessi
 ons focusing on mindfulness and relaxation\, helping participants reconnec
 t with their bodies and breath. \n\nPicture Printing Station: A creative a
 rea where attendees can capture and print memories of loved ones\, encoura
 ging reflection and remembrance. \n\nLibrary Pop-Up: A selection of books 
 dedicated to grief support and coping strategies\, offering valuable resou
 rces for those in need. \n\nAffirmation Memorial Rock Station: Participant
 s can paint rocks with affirmations and messages of hope\, leaving a lasti
 ng tribute to honor those we've lost. \n\nResource and Support Tabling: A 
 variety of community partners from around Milwaukee County will provide in
 formation and education on prevention and harm reduction for friends and f
 amily in attendance. \n\nWe invite our community partners to join us in th
 is meaningful event! Together\, we can create an environment of understand
 ing\, kindness\, and hope in remembrance of those we have lost. We hope to
  see you there!
DTSTART;TZID=America/Chicago:20250829T170000
DTEND;TZID=America/Chicago:20250829T200000
LOCATION:Mitchell Park Pavilion\, 524 S. Layton Boulevard\, Milwaukee\, WI 
 53204 US
SUMMARY:Healing Together\, Driven by Hope
END:VEVENT
END:VCALENDAR
