BEGIN:VCALENDAR
VERSION:2.0
PRODID:-//risedrugfreemke.org//NONSGML kigkonsult.se iCalcreator 2.30.10//
CALSCALE:GREGORIAN
METHOD:PUBLISH
UID:10f2386d-e367-42c0-8891-e7654f79b475
X-WR-CALDESC:Join us as we come together for International Overdose Awarene
 ss Day\, a heartfelt gathering aimed at showing love\, support\, and heali
 ng for those affected by the devastating loss of loved ones due to substan
 ce use\; as well as the survivors of overdose. This event is a space for c
 ommunity solidarity remembrance\, and hope.\n\nThroughout the event\, we w
 ill feature inspiring speakers who have bravely navigated their own recove
 ry journeys and those dealing with the loss of loved ones due to substance
  use. Their stories provide insight and encouragement\, highlighting the p
 ower of resilience and the importance of support in overcoming adversity. 
 \n\nA special Dedication Station will be available\, allowing attendees to
  honor and remember those who have been lost to overdose. Participants can
  create a symbol of love and remembrance\, creating a powerful visual trib
 ute in our community. \n\nAs we conclude the event\, we will hold a Candle
  Memorial Vigil\, providing a serene atmosphere for reflection and commemo
 ration. This moment will allow us to gather in unity\, lighting candles in
  honor of those we've lost\, fostering a sense of hope and healing as we s
 tand together. \n\nWe invite everyone to join us in this important event t
 o raise awareness\, share stories\, and support each other in our collecti
 ve journey toward healing. Together\, we can create a compassionate enviro
 nment that honors the lives of those lost and promotes a future filled wit
 h hope. \n\nThe event is sponsored by City of Milwaukee Health Department\
 , HIR Wellness Institute\, Milwaukee County Behavioral Health Services\, M
 ilwaukee County Parks\, Community Advocates Public Policy Institute\, RISE
  Drug Free MKE.\n\nAt dusk\, we encourage friends and family to join the R
 ISE Drug Free MKE coalition members near the Summerfest Lot facing E. Erie
  St.\, Milwaukee\, to view the Hoan Bridge light up purple to honor Intern
 ational Overdose Awareness Day 2025. You can also live-stream it at https:
 //lightthehoan.com/.\n\n
X-WR-RELCALID:13ba473683e4d1cd422c832e90e3be0d
X-WR-TIMEZONE:America/Chicago
BEGIN:VTIMEZONE
TZID:America/Chicago
BEGIN:STANDARD
TZNAME:CST
DTSTART:20241103T020000
TZOFFSETFROM:-0500
TZOFFSETTO:-0600
RDATE:20251102T020000
RDATE:20261101T020000
END:STANDARD
BEGIN:DAYLIGHT
TZNAME:CDT
DTSTART:20250309T020000
TZOFFSETFROM:-0600
TZOFFSETTO:-0500
RDATE:20260308T020000
END:DAYLIGHT
END:VTIMEZONE
BEGIN:VEVENT
UID:0c196bfd-eb2b-4f09-b7ae-69f0a98044fa
DTSTAMP:20260420T062511Z
DESCRIPTION:Join us as we come together for International Overdose Awarenes
 s Day\, a heartfelt gathering aimed at showing love\, support\, and healin
 g for those affected by the devastating loss of loved ones due to substanc
 e use\; as well as the survivors of overdose. This event is a space for co
 mmunity solidarity remembrance\, and hope.\n\nThroughout the event\, we wi
 ll feature inspiring speakers who have bravely navigated their own recover
 y journeys and those dealing with the loss of loved ones due to substance 
 use. Their stories provide insight and encouragement\, highlighting the po
 wer of resilience and the importance of support in overcoming adversity. 
 \n\nA special Dedication Station will be available\, allowing attendees to
  honor and remember those who have been lost to overdose. Participants can
  create a symbol of love and remembrance\, creating a powerful visual trib
 ute in our community. \n\nAs we conclude the event\, we will hold a Candle
  Memorial Vigil\, providing a serene atmosphere for reflection and commemo
 ration. This moment will allow us to gather in unity\, lighting candles in
  honor of those we've lost\, fostering a sense of hope and healing as we s
 tand together. \n\nWe invite everyone to join us in this important event t
 o raise awareness\, share stories\, and support each other in our collecti
 ve journey toward healing. Together\, we can create a compassionate enviro
 nment that honors the lives of those lost and promotes a future filled wit
 h hope. \n\nThe event is sponsored by City of Milwaukee Health Department\
 , HIR Wellness Institute\, Milwaukee County Behavioral Health Services\, M
 ilwaukee County Parks\, Community Advocates Public Policy Institute\, RISE
  Drug Free MKE.\n\nAt dusk\, we encourage friends and family to join the R
 ISE Drug Free MKE coalition members near the Summerfest Lot facing E. Erie
  St.\, Milwaukee\, to view the Hoan Bridge light up purple to honor Intern
 ational Overdose Awareness Day 2025. You can also live-stream it at https:
 //lightthehoan.com/.\n\n
DTSTART;TZID=America/Chicago:20250831T170000
DTEND;TZID=America/Chicago:20250831T193000
LOCATION:Washington Park Areas 2 and 3\, 1859 N. 40th Street\, Milwaukee\, 
 AL 53208 US
SUMMARY:International Overdose Awareness Day Memorial Event - 'Driven by Ho
 pe'
END:VEVENT
END:VCALENDAR
