BEGIN:VCALENDAR
VERSION:2.0
PRODID:-//risedrugfreemke.org//NONSGML kigkonsult.se iCalcreator 2.30.10//
CALSCALE:GREGORIAN
METHOD:PUBLISH
UID:eb045e9b-b566-4ab0-9ef9-38edd68b6115
X-WR-CALDESC:International Overdose Awareness Day is an annual campaign to 
 end overdose\, remember those we have lost to an overdose\, acknowledge th
 e grief of the family and friends left behind. It is an opportunity to ren
 ew our commitment to end overdose.
X-WR-RELCALID:9fbabe11319295ced313238407a259b5
X-WR-TIMEZONE:America/Chicago
BEGIN:VTIMEZONE
TZID:America/Chicago
BEGIN:STANDARD
TZNAME:CST
DTSTART:20241103T020000
TZOFFSETFROM:-0500
TZOFFSETTO:-0600
RDATE:20251102T020000
RDATE:20261101T020000
END:STANDARD
BEGIN:DAYLIGHT
TZNAME:CDT
DTSTART:20250309T020000
TZOFFSETFROM:-0600
TZOFFSETTO:-0500
RDATE:20260308T020000
END:DAYLIGHT
END:VTIMEZONE
BEGIN:VEVENT
UID:b1f02bc2-7cb6-4d4e-bcd5-7b4d8564046d
DTSTAMP:20260420T062245Z
DESCRIPTION:International Overdose Awareness Day is an annual campaign to e
 nd overdose\, remember those we have lost to an overdose\, acknowledge the
  grief of the family and friends left behind. It is an opportunity to rene
 w our commitment to end overdose.
DTSTART;TZID=America/Chicago:20250831T050000
DTEND;TZID=America/Chicago:20250831T050001
LOCATION:
SUMMARY:International Overdose Awareness Day
END:VEVENT
END:VCALENDAR
