BEGIN:VCALENDAR
VERSION:2.0
PRODID:-//risedrugfreemke.org//NONSGML kigkonsult.se iCalcreator 2.30.10//
CALSCALE:GREGORIAN
METHOD:PUBLISH
UID:23bee3ec-2a05-4a1b-8a5e-7f2535ba857e
X-WR-CALDESC:The RISE Drug Free MKE full coalition will meet to discuss pro
 jects and priorities. Interested in joining? Please contact De'Shawn Ewing
 .
X-WR-RELCALID:808865fc763416830b3669be5da7bb9d
X-WR-TIMEZONE:America/Chicago
BEGIN:VTIMEZONE
TZID:America/Chicago
BEGIN:STANDARD
TZNAME:CST
DTSTART:20241103T020000
TZOFFSETFROM:-0500
TZOFFSETTO:-0600
RDATE:20251102T020000
RDATE:20261101T020000
END:STANDARD
BEGIN:DAYLIGHT
TZNAME:CDT
DTSTART:20250309T020000
TZOFFSETFROM:-0600
TZOFFSETTO:-0500
RDATE:20260308T020000
RDATE:20270314T020000
END:DAYLIGHT
END:VTIMEZONE
BEGIN:VEVENT
UID:cc5d75f8-3212-4974-9c18-d2204c8fec45
DTSTAMP:20260420T022201Z
DESCRIPTION:The RISE Drug Free MKE full coalition will meet to discuss proj
 ects and priorities. Interested in joining? Please contact De'Shawn Ewing.
DTSTART;TZID=America/Chicago:20251001T100000
DTEND;TZID=America/Chicago:20251001T113000
LOCATION:Location TBD
SUMMARY:RISE Drug Free MKE Coalition Meeting
END:VEVENT
END:VCALENDAR
