BEGIN:VCALENDAR
VERSION:2.0
PRODID:-//risedrugfreemke.org//NONSGML kigkonsult.se iCalcreator 2.30.10//
CALSCALE:GREGORIAN
METHOD:PUBLISH
UID:216befd9-f650-4978-bd40-a7148c0777cf
X-WR-CALDESC:Community Advocates' offices will be closed on December 24 and
  December 25 to celebrate the Christmas holiday. However\, our 24-hour pro
 grams will remain open — the Milwaukee Women's Center Emergency Shelter an
 d the Autumn West Safe Haven. If you are experiencing a domestic violence 
 issue\, please call our 24/7 Domestic Violence Crisis Line at 414-671-6140
 . If you need help with your basic needs over the holidays\, please contac
 t IMPACT 211. We will be back in touch on December 26.
X-WR-RELCALID:71e97c7bc3a7db884315ee43710f1bb5
X-WR-TIMEZONE:America/Chicago
BEGIN:VTIMEZONE
TZID:America/Chicago
BEGIN:STANDARD
TZNAME:CST
DTSTART:20251102T020000
TZOFFSETFROM:-0500
TZOFFSETTO:-0600
RDATE:20261101T020000
END:STANDARD
BEGIN:DAYLIGHT
TZNAME:CDT
DTSTART:20250309T020000
TZOFFSETFROM:-0600
TZOFFSETTO:-0500
RDATE:20260308T020000
RDATE:20270314T020000
END:DAYLIGHT
END:VTIMEZONE
BEGIN:VEVENT
UID:f7db95ab-9e99-4e1b-974f-0ac1660e577f
DTSTAMP:20260419T235010Z
DESCRIPTION:Community Advocates' offices will be closed on December 24 and 
 December 25 to celebrate the Christmas holiday. However\, our 24-hour prog
 rams will remain open — the Milwaukee Women's Center Emergency Shelter and
  the Autumn West Safe Haven. If you are experiencing a domestic violence i
 ssue\, please call our 24/7 Domestic Violence Crisis Line at 414-671-6140.
  If you need help with your basic needs over the holidays\, please contact
  IMPACT 211. We will be back in touch on December 26.
DTSTART;TZID=America/Chicago:20251224T050000
DTEND;TZID=America/Chicago:20251225T050001
LOCATION:
SUMMARY:Christmas Holiday Closure
END:VEVENT
END:VCALENDAR
