BEGIN:VCALENDAR
VERSION:2.0
PRODID:-//risedrugfreemke.org//NONSGML kigkonsult.se iCalcreator 2.30.10//
CALSCALE:GREGORIAN
METHOD:PUBLISH
UID:61e370e3-cfff-4cbb-a70e-9d2ccfe66c74
X-WR-CALDESC:Community Advocates' offices will be closed on December 31\, 2
 025 and January 1\, 2026 to celebrate the New Year's holiday. However\, ou
 r 24-hour programs will remain open — the Milwaukee Women's Center Emergen
 cy Shelter and the Autumn West Safe Haven. If you are experiencing a domes
 tic violence issue\, please call our 24/7 Domestic Violence Crisis Line at
  414-671-6140. If you need help with your basic needs over the holidays\, 
 please contact IMPACT 211. We will be back in touch on January 2.
X-WR-RELCALID:8a50dd6dded2f05e3e7c54b4ea63989f
X-WR-TIMEZONE:America/Chicago
BEGIN:VTIMEZONE
TZID:America/Chicago
BEGIN:STANDARD
TZNAME:CST
DTSTART:20251102T020000
TZOFFSETFROM:-0500
TZOFFSETTO:-0600
RDATE:20261101T020000
END:STANDARD
BEGIN:DAYLIGHT
TZNAME:CDT
DTSTART:20250309T020000
TZOFFSETFROM:-0600
TZOFFSETTO:-0500
RDATE:20260308T020000
RDATE:20270314T020000
END:DAYLIGHT
END:VTIMEZONE
BEGIN:VEVENT
UID:33aeb087-cf9b-4731-8b81-b3832ea53c7d
DTSTAMP:20260419T234340Z
DESCRIPTION:Community Advocates' offices will be closed on December 31\, 20
 25 and January 1\, 2026 to celebrate the New Year's holiday. However\, our
  24-hour programs will remain open — the Milwaukee Women's Center Emergenc
 y Shelter and the Autumn West Safe Haven. If you are experiencing a domest
 ic violence issue\, please call our 24/7 Domestic Violence Crisis Line at 
 414-671-6140. If you need help with your basic needs over the holidays\, p
 lease contact IMPACT 211. We will be back in touch on January 2.
DTSTART;TZID=America/Chicago:20251231T050000
DTEND;TZID=America/Chicago:20260101T050001
LOCATION:
SUMMARY:New Year's Closure
END:VEVENT
END:VCALENDAR
