BEGIN:VCALENDAR
VERSION:2.0
PRODID:-//risedrugfreemke.org//NONSGML kigkonsult.se iCalcreator 2.30.10//
CALSCALE:GREGORIAN
METHOD:PUBLISH
UID:bdf8a3a3-5fd8-435a-b7e2-507d39664892
X-WR-CALDESC:During this virtual workshop\, you will learn how to increase 
 safety by utilizing verbal de-escalation techniques. Participants will exp
 lore foundational information on how to reduce the level of conflict throu
 gh self-knowledge\, understand how past experiences influence current beha
 vior\, and practice de-escalation.\n\nThis session is free and open to eve
 ryone. We appreciate your interest in learning more about mental health an
 d wellness.
X-WR-RELCALID:e0deb294cf0d8af792e31d7bc89aff62
X-WR-TIMEZONE:America/Chicago
BEGIN:VTIMEZONE
TZID:America/Chicago
BEGIN:STANDARD
TZNAME:CST
DTSTART:20251102T020000
TZOFFSETFROM:-0500
TZOFFSETTO:-0600
RDATE:20261101T020000
END:STANDARD
BEGIN:DAYLIGHT
TZNAME:CDT
DTSTART:20250309T020000
TZOFFSETFROM:-0600
TZOFFSETTO:-0500
RDATE:20260308T020000
RDATE:20270314T020000
END:DAYLIGHT
END:VTIMEZONE
BEGIN:VEVENT
UID:6b811531-6908-4bbe-8017-14a5b428045e
DTSTAMP:20260419T214821Z
DESCRIPTION:During this virtual workshop\, you will learn how to increase s
 afety by utilizing verbal de-escalation techniques. Participants will expl
 ore foundational information on how to reduce the level of conflict throug
 h self-knowledge\, understand how past experiences influence current behav
 ior\, and practice de-escalation.\n\nThis session is free and open to ever
 yone. We appreciate your interest in learning more about mental health and
  wellness.
DTSTART;TZID=America/Chicago:20260121T090000
DTEND;TZID=America/Chicago:20260121T103000
LOCATION:Via Zoom
SUMMARY:Verbal De-Escalation Techniques
END:VEVENT
END:VCALENDAR
