BEGIN:VCALENDAR
VERSION:2.0
PRODID:-//risedrugfreemke.org//NONSGML kigkonsult.se iCalcreator 2.30.10//
CALSCALE:GREGORIAN
METHOD:PUBLISH
UID:9454a258-f9f2-4193-a422-8fe83e648c8d
X-WR-CALDESC:During this virtual workshop\, you will learn how to increase 
 safety by utilizing verbal de-escalation techniques. Participants will exp
 lore foundational information on how to reduce the level of conflict throu
 gh self-knowledge\, understand how past experiences influence current beha
 vior\, and practice de-escalation.\n\nThis session is free and open to eve
 ryone. We appreciate your interest in learning more about mental health an
 d wellness.
X-WR-RELCALID:4d122df8cc8937a1435136b8706804ad
X-WR-TIMEZONE:America/Chicago
BEGIN:VTIMEZONE
TZID:America/Chicago
BEGIN:STANDARD
TZNAME:CST
DTSTART:20251102T020000
TZOFFSETFROM:-0500
TZOFFSETTO:-0600
RDATE:20261101T020000
END:STANDARD
BEGIN:DAYLIGHT
TZNAME:CDT
DTSTART:20250309T020000
TZOFFSETFROM:-0600
TZOFFSETTO:-0500
RDATE:20260308T020000
RDATE:20270314T020000
END:DAYLIGHT
END:VTIMEZONE
BEGIN:VEVENT
UID:9bb2b296-f37b-4566-a1e3-0097d7b78eb4
DTSTAMP:20260419T201338Z
DESCRIPTION:During this virtual workshop\, you will learn how to increase s
 afety by utilizing verbal de-escalation techniques. Participants will expl
 ore foundational information on how to reduce the level of conflict throug
 h self-knowledge\, understand how past experiences influence current behav
 ior\, and practice de-escalation.\n\nThis session is free and open to ever
 yone. We appreciate your interest in learning more about mental health and
  wellness.
DTSTART;TZID=America/Chicago:20260217T090000
DTEND;TZID=America/Chicago:20260217T103000
LOCATION:Via Zoom
SUMMARY:Verbal De-Escalation Techniques | February 17
END:VEVENT
END:VCALENDAR
