BEGIN:VCALENDAR
VERSION:2.0
PRODID:-//risedrugfreemke.org//NONSGML kigkonsult.se iCalcreator 2.30.10//
CALSCALE:GREGORIAN
METHOD:PUBLISH
UID:7e0835a0-e8fc-4db5-ad85-ae472da7446c
X-WR-CALDESC:RISE Drug Free MKE welcomes you to a fun night of skating with
  your family! Registration is required at the link below.
X-WR-RELCALID:c2e755c7514f4d50090ccb514b6c2b13
X-WR-TIMEZONE:America/Chicago
BEGIN:VTIMEZONE
TZID:America/Chicago
BEGIN:STANDARD
TZNAME:CST
DTSTART:20221106T020000
TZOFFSETFROM:-0500
TZOFFSETTO:-0600
RDATE:20231105T020000
END:STANDARD
BEGIN:DAYLIGHT
TZNAME:CDT
DTSTART:20230312T020000
TZOFFSETFROM:-0600
TZOFFSETTO:-0500
RDATE:20240310T020000
END:DAYLIGHT
END:VTIMEZONE
BEGIN:VEVENT
UID:04fa9f8c-1306-4652-a4b0-4f81259e90dc
DTSTAMP:20260423T105920Z
DESCRIPTION:RISE Drug Free MKE welcomes you to a fun night of skating with 
 your family! Registration is required at the link below.
DTSTART;TZID=America/Chicago:20230321T190000
DTEND;TZID=America/Chicago:20230321T210000
LOCATION:Petit National Ice Center \, 500 S 84th St.\, Milwaukee\, WI 53214
  US
SUMMARY:Family Skate Night | Light & Unite Red Week
END:VEVENT
END:VCALENDAR
