BEGIN:VCALENDAR
VERSION:2.0
PRODID:-//risedrugfreemke.org//NONSGML kigkonsult.se iCalcreator 2.30.10//
CALSCALE:GREGORIAN
METHOD:PUBLISH
UID:97d7f178-c384-4be4-8441-cf82e8bea2c2
X-WR-CALDESC:During this virtual workshop\, you will learn how to increase 
 safety by utilizing verbal de-escalation techniques. Participants will exp
 lore foundational information on how to reduce the level of conflict throu
 gh self-knowledge\, understand how past experiences influence current beha
 vior\, and practice de-escalation.\n\n<b>This session is free and open to 
 everyone. We appreciate your interest in learning more about mental health
  and wellness.</b>
X-WR-RELCALID:2f3c9f2ac20024c1108b71a49e13d0d5
X-WR-TIMEZONE:America/Chicago
BEGIN:VTIMEZONE
TZID:America/Chicago
BEGIN:STANDARD
TZNAME:CST
DTSTART:20241103T020000
TZOFFSETFROM:-0500
TZOFFSETTO:-0600
RDATE:20251102T020000
RDATE:20261101T020000
END:STANDARD
BEGIN:DAYLIGHT
TZNAME:CDT
DTSTART:20250309T020000
TZOFFSETFROM:-0600
TZOFFSETTO:-0500
RDATE:20260308T020000
END:DAYLIGHT
END:VTIMEZONE
BEGIN:VEVENT
UID:16302ea1-ecc7-44a3-b902-6788d08e1f1b
DTSTAMP:20260422T124936Z
DESCRIPTION:During this virtual workshop\, you will learn how to increase s
 afety by utilizing verbal de-escalation techniques. Participants will expl
 ore foundational information on how to reduce the level of conflict throug
 h self-knowledge\, understand how past experiences influence current behav
 ior\, and practice de-escalation.\n\n<b>This session is free and open to e
 veryone. We appreciate your interest in learning more about mental health 
 and wellness.</b>
DTSTART;TZID=America/Chicago:20250513T090000
DTEND;TZID=America/Chicago:20250513T103000
LOCATION:Via Zoom
SUMMARY:Verbal De-Escalation Techniques | May 13\, 2025
END:VEVENT
END:VCALENDAR
