BEGIN:VCALENDAR
VERSION:2.0
PRODID:-//risedrugfreemke.org//NONSGML kigkonsult.se iCalcreator 2.30.10//
CALSCALE:GREGORIAN
METHOD:PUBLISH
UID:69dc006b-d1df-43c5-8351-9829c375096f
X-WR-CALDESC:During this virtual workshop\, you will learn how to increase 
 safety by utilizing verbal de-escalation techniques. Participants will exp
 lore foundational information on how to reduce the level of conflict throu
 gh self-knowledge\, understand how past experiences influence current beha
 vior\, and practice de-escalation.\n\nThis session is free and open to eve
 ryone. We appreciate your interest in learning more about mental health an
 d wellness.
X-WR-RELCALID:3a075ae93e93afac71b005171f7f4eff
X-WR-TIMEZONE:America/Chicago
BEGIN:VTIMEZONE
TZID:America/Chicago
BEGIN:STANDARD
TZNAME:CST
DTSTART:20251102T020000
TZOFFSETFROM:-0500
TZOFFSETTO:-0600
RDATE:20261101T020000
END:STANDARD
BEGIN:DAYLIGHT
TZNAME:CDT
DTSTART:20260308T020000
TZOFFSETFROM:-0600
TZOFFSETTO:-0500
RDATE:20270314T020000
END:DAYLIGHT
END:VTIMEZONE
BEGIN:VEVENT
UID:54ed8d09-f453-4a4b-a714-748b3e6a04f6
DTSTAMP:20260419T162836Z
DESCRIPTION:During this virtual workshop\, you will learn how to increase s
 afety by utilizing verbal de-escalation techniques. Participants will expl
 ore foundational information on how to reduce the level of conflict throug
 h self-knowledge\, understand how past experiences influence current behav
 ior\, and practice de-escalation.\n\nThis session is free and open to ever
 yone. We appreciate your interest in learning more about mental health and
  wellness.
DTSTART;TZID=America/Chicago:20260417T130000
DTEND;TZID=America/Chicago:20260417T143000
LOCATION:Via Zoom
SUMMARY:Verbal De-Escalation Techniques | April 17 | 1-2:30 p.m.
END:VEVENT
END:VCALENDAR
